BEGIN:VCALENDAR
VERSION:2.0
PRODID:-//Eventin//Event Calendar//EN
CALSCALE:GREGORIAN
METHOD:PUBLISH
BEGIN:VEVENT
UID:fbd87a163026536f85505fc240c69ffe@wlda.tech
SUMMARY:Regional Meet Up: WLDA x Autodesk in San Fransisco
DESCRIPTION:​As organizations move from AI experimentation to enterprise-
 wide deployment\, the question is no longer if AI should be governed—bu
 t how to do it effectively\, at scale\, and with accountability.\nJoin us
  in exploring how leading organizations are operationalizing AI governance 
 to build trust\, mitigate risk\, and enable responsible innovation.\n​Thi
 s session features Alexandra Ross\, Senior Director\, Data Protection\, Us
 e & Ethics Counsel at Autodesk\, and Asha Saxena\, WLDA CEO and Founder\, d
 iscuss on how to provide a practical\, executive-level view into what it ta
 kes to govern AI in today’s rapidly evolving landscape.\n​What You’ll
  Learn:\n\n\n​How leading organizations are structuring AI governance (co
 mmittees\, stakeholders\, and trust teams)\n\n\n​The role of board oversi
 ght and executive accountability in Trusted AI\n\n\n​Practical approaches
  to mitigating AI risk through technical controls and governance frameworks
 \n\n\n​Embedding transparency\, data privacy\, and security into AI syste
 ms\n\n\n​Building organizational capability through training\, awareness\
 , and talent strategy\n\n\n​How AI governance intersects with broader ent
 erprise functions including privacy\, security\, and data governance\n\n\n
 ​Grounded in real-world implementation at Autodesk and informed by emergi
 ng research on AI risk and adoption\, this session is designed for executiv
 es navigating the complexities of scaling AI responsibly.
LOCATION:Autodesk\, San Francisco
DTSTAMP:20260422T085630Z
DTSTART:20260831T130000Z
DTEND:20260831T210000Z
END:VEVENT
END:VCALENDAR
